BEGIN:VCALENDAR
VERSION:2.0
PRODID:-//Intand Corporation//Tandem//EN
METHOD:PUBLISH
BEGIN:VEVENT
DTSTAMP:20260420T093636Z
DTSTART:20260421T193000Z
DTEND:20260421T213000Z
TRANSP:TRANSPARENT
PRIORITY:0
SUMMARY:Varsity Girls Tennis Regional Tournament vs. Clearwater Central Ca
 tholic
LOCATION:Hillsborough Community College - Dale Mabry Campus
DESCRIPTION:Groups:\nTennis Varsity 2026\n\nLocation:\nHillsborough Commun
 ity College - Dale Mabry Campus\n\n
URL;VALUE=URI:https://cambridgechristian.tandem.co/index.php?type=view&act
 ion=event&id=116742
CREATED:20260415T163332Z
LAST-MODIFIED:20260417T133313Z
UID:event-116742-cambridgechristian@intand.com
END:VEVENT
END:VCALENDAR
